BEGIN:VCALENDAR
VERSION:2.0
PRODID:-//jEvents 2.0 for Joomla//EN
CALSCALE:GREGORIAN
METHOD:PUBLISH
BEGIN:VEVENT
UID:07a908aec27dc7b2659eee83dc6af7a6
CATEGORIES:Kapiti Club Rides
CREATED:20210119T045443
SUMMARY:Howard & Co Summer Series - The Social Circuit and Handicap Race @ Nga Manu Circuit
LOCATION:Nga Manu Reserve Road, Waikanae
DESCRIPTION;ENCODING=QUOTED-PRINTABLE:<div class="jev_evdt_desc"><p>Kapiti Cycling Club invites you to the Tuesda
 y Club summer riding, proudly sponsored by Howard &amp; Co.&nbsp; First up 
 is a speed-limited group ride - The Social Circuit - from 6pm, followed by 
 a handicap race from 6:30pm for groups A, B, C and D.&nbsp; To be held on t
 he safe and quiet Nga Manu course, Nga Manu Reserve Rd Waikanae.</p><p>All 
 welcome. Members $5, Non-members $10 (unlimited)</p></div><div class="jev_e
 vdt_location">&nbsp;</div> This event was imported from: https://www.kapiti
 cyclingclub.co.nz/index.php/component/jevents/icalrepeat.detail/2021/02/23/
 909/-/howard-co-summer-series-the-social-circuit-and-handicap-race-nga-manu
 -circuit?Itemid=801&amp;tmpl=component
CONTACT:Eddie Bright
DTSTAMP:20210120T153611Z
DTSTART:20210223T180000Z
SEQUENCE:0
TRANSP:OPAQUE
END:VEVENT
END:VCALENDAR